BEGIN:VCALENDAR
VERSION:2.0
PRODID:-//SV Meckenhausen e. V. - ECPv6.15.17.1//NONSGML v1.0//EN
CALSCALE:GREGORIAN
METHOD:PUBLISH
X-WR-CALNAME:SV Meckenhausen e. V.
X-ORIGINAL-URL:https://www.sv-meckenhausen.de
X-WR-CALDESC:Veranstaltungen für SV Meckenhausen e. V.
REFRESH-INTERVAL;VALUE=DURATION:PT1H
X-Robots-Tag:noindex
X-PUBLISHED-TTL:PT1H
BEGIN:VTIMEZONE
TZID:Europe/Berlin
BEGIN:DAYLIGHT
TZOFFSETFROM:+0100
TZOFFSETTO:+0200
TZNAME:CEST
DTSTART:20210328T010000
END:DAYLIGHT
BEGIN:STANDARD
TZOFFSETFROM:+0200
TZOFFSETTO:+0100
TZNAME:CET
DTSTART:20211031T010000
END:STANDARD
BEGIN:DAYLIGHT
TZOFFSETFROM:+0100
TZOFFSETTO:+0200
TZNAME:CEST
DTSTART:20220327T010000
END:DAYLIGHT
BEGIN:STANDARD
TZOFFSETFROM:+0200
TZOFFSETTO:+0100
TZNAME:CET
DTSTART:20221030T010000
END:STANDARD
BEGIN:DAYLIGHT
TZOFFSETFROM:+0100
TZOFFSETTO:+0200
TZNAME:CEST
DTSTART:20230326T010000
END:DAYLIGHT
BEGIN:STANDARD
TZOFFSETFROM:+0200
TZOFFSETTO:+0100
TZNAME:CET
DTSTART:20231029T010000
END:STANDARD
END:VTIMEZONE
BEGIN:VEVENT
DTSTART;VALUE=DATE:20220925
DTEND;VALUE=DATE:20220926
DTSTAMP:20260424T090557
CREATED:20220515T161426Z
LAST-MODIFIED:20220515T161525Z
UID:752-1664064000-1664150399@www.sv-meckenhausen.de
SUMMARY:Oktoberfest-Landesschießen
DESCRIPTION:Busfahrt organisiert vom Schützengau.\nWeitere Infos folgen.
URL:https://www.sv-meckenhausen.de/event/oktoberfest-landesschiessen/
CATEGORIES:Allgemein
END:VEVENT
END:VCALENDAR